BEGIN:VCALENDAR
VERSION:2.0
PRODID:-//Rice Road Community Church - ECPv6.15.20//NONSGML v1.0//EN
CALSCALE:GREGORIAN
METHOD:PUBLISH
X-ORIGINAL-URL:https://riceroadcc.ca
X-WR-CALDESC:Events for Rice Road Community Church
REFRESH-INTERVAL;VALUE=DURATION:PT1H
X-Robots-Tag:noindex
X-PUBLISHED-TTL:PT1H
BEGIN:VTIMEZONE
TZID:UTC
BEGIN:STANDARD
TZOFFSETFROM:+0000
TZOFFSETTO:+0000
TZNAME:UTC
DTSTART:20230101T000000
END:STANDARD
END:VTIMEZONE
BEGIN:VEVENT
DTSTART;TZID=UTC:20240110T120000
DTEND;TZID=UTC:20240110T170000
DTSTAMP:20260422T162301
CREATED:20240104T203244Z
LAST-MODIFIED:20240105T174814Z
UID:3351-1704888000-1704906000@riceroadcc.ca
SUMMARY:Soul Connections
DESCRIPTION:
URL:https://riceroadcc.ca/events/soul-connections/
LOCATION:Rice Road Community Church\, 305 Rice Rd\, Welland\, Ontario\, L3C 2V9\, Canada
CATEGORIES:Soul Connections
ATTACH;FMTTYPE=image/jpeg:https://riceroadcc.ca/wp-content/uploads/2024/01/event_soul-connection-1.jpg
END:VEVENT
BEGIN:VEVENT
DTSTART;TZID=UTC:20240110T190000
DTEND;TZID=UTC:20240110T203000
DTSTAMP:20260422T162301
CREATED:20240108T180545Z
LAST-MODIFIED:20240108T180705Z
UID:3467-1704913200-1704918600@riceroadcc.ca
SUMMARY:Youth Night
DESCRIPTION:Youth Night\nWhen: Wed\, 10 January\, 7:00pm – 8:30pm\nWhere: Youth Room @ RRCC (map)\nDescription: Grades 6-12 meeting.
URL:https://riceroadcc.ca/events/3467/
LOCATION:Rice Road Community Church\, 305 Rice Rd\, Welland\, Ontario\, L3C 2V9\, Canada
ATTACH;FMTTYPE=image/jpeg:https://riceroadcc.ca/wp-content/uploads/2024/01/event_youth.jpg
END:VEVENT
END:VCALENDAR