BEGIN:VCALENDAR
VERSION:2.0
PRODID:-//Rice Road Community Church - ECPv6.15.20//NONSGML v1.0//EN
CALSCALE:GREGORIAN
METHOD:PUBLISH
X-WR-CALNAME:Rice Road Community Church
X-ORIGINAL-URL:https://riceroadcc.ca
X-WR-CALDESC:Events for Rice Road Community Church
REFRESH-INTERVAL;VALUE=DURATION:PT1H
X-Robots-Tag:noindex
X-PUBLISHED-TTL:PT1H
BEGIN:VTIMEZONE
TZID:UTC
BEGIN:STANDARD
TZOFFSETFROM:+0000
TZOFFSETTO:+0000
TZNAME:UTC
DTSTART:20230101T000000
END:STANDARD
END:VTIMEZONE
BEGIN:VEVENT
DTSTART;TZID=UTC:20241103T100000
DTEND;TZID=UTC:20241103T113000
DTSTAMP:20260422T015511
CREATED:20240108T213318Z
LAST-MODIFIED:20240920T190048Z
UID:3482-1730628000-1730633400@riceroadcc.ca
SUMMARY:Communion Sunday Service
DESCRIPTION:
URL:https://riceroadcc.ca/events/sunday-service-2-16/
LOCATION:Rice Road Community Church\, 305 Rice Rd\, Welland\, Ontario\, L3C 2V9\, Canada
CATEGORIES:Worship Service
ATTACH;FMTTYPE=image/jpeg:https://riceroadcc.ca/wp-content/uploads/2024/01/event_worship.jpg
END:VEVENT
END:VCALENDAR