BEGIN:VCALENDAR
VERSION:2.0
PRODID:-//Rice Road Community Church - ECPv6.15.20//NONSGML v1.0//EN
CALSCALE:GREGORIAN
METHOD:PUBLISH
X-WR-CALNAME:Rice Road Community Church
X-ORIGINAL-URL:https://riceroadcc.ca
X-WR-CALDESC:Events for Rice Road Community Church
REFRESH-INTERVAL;VALUE=DURATION:PT1H
X-Robots-Tag:noindex
X-PUBLISHED-TTL:PT1H
BEGIN:VTIMEZONE
TZID:UTC
BEGIN:STANDARD
TZOFFSETFROM:+0000
TZOFFSETTO:+0000
TZNAME:UTC
DTSTART:20200101T000000
END:STANDARD
END:VTIMEZONE
BEGIN:VEVENT
DTSTART;TZID=UTC:20210701T060000
DTEND;TZID=UTC:20210701T073000
DTSTAMP:20260422T221539
CREATED:20210624T002143Z
LAST-MODIFIED:20210624T002143Z
UID:338-1625119200-1625124600@riceroadcc.ca
SUMMARY:Men's Group Meeting
DESCRIPTION:https://us02web.zoom.us/j/86436096273 \nPastor Matt is inviting you to a scheduled Zoom meeting. \nJoin Zoom Meeting\nhttps://us02web.zoom.us/j/86436096273 \nMeeting ID: 864 3609 6273\nOne tap mobile\n+13462487799\,\,86436096273# US (Houston)\n+16465588656\,\,86436096273# US (New York) \nDial by your location\n+1 346 248 7799 US (Houston)\n+1 646 558 8656 US (New York)\n+1 669 900 9128 US (San Jose)\n+1 253 215 8782 US (Tacoma)\n+1 301 715 8592 US (Washington DC)\n+1 312 626 6799 US (Chicago)\nMeeting ID: 864 3609 6273\nFind your local number: https://us02web.zoom.us/u/kdiDVp03pb
URL:https://riceroadcc.ca/events/mens-group-meeting/
LOCATION:Online Zoom
CATEGORIES:Men's Group Meeting
ORGANIZER;CN="Matthew Willey":MAILTO:pastor@riceroadcc.ca
END:VEVENT
END:VCALENDAR