BEGIN:VCALENDAR
VERSION:2.0
PRODID:-//Rice Road Community Church - ECPv6.15.20//NONSGML v1.0//EN
CALSCALE:GREGORIAN
METHOD:PUBLISH
X-WR-CALNAME:Rice Road Community Church
X-ORIGINAL-URL:https://riceroadcc.ca
X-WR-CALDESC:Events for Rice Road Community Church
REFRESH-INTERVAL;VALUE=DURATION:PT1H
X-Robots-Tag:noindex
X-PUBLISHED-TTL:PT1H
BEGIN:VTIMEZONE
TZID:UTC
BEGIN:STANDARD
TZOFFSETFROM:+0000
TZOFFSETTO:+0000
TZNAME:UTC
DTSTART:20230101T000000
END:STANDARD
END:VTIMEZONE
BEGIN:VEVENT
DTSTART;TZID=UTC:20241103T100000
DTEND;TZID=UTC:20241103T113000
DTSTAMP:20260422T221250
CREATED:20240108T213318Z
LAST-MODIFIED:20240920T190048Z
UID:3482-1730628000-1730633400@riceroadcc.ca
SUMMARY:Communion Sunday Service
DESCRIPTION:
URL:https://riceroadcc.ca/events/sunday-service-2-16/
LOCATION:Rice Road Community Church\, 305 Rice Rd\, Welland\, Ontario\, L3C 2V9\, Canada
CATEGORIES:Worship Service
ATTACH;FMTTYPE=image/jpeg:https://riceroadcc.ca/wp-content/uploads/2024/01/event_worship.jpg
END:VEVENT
BEGIN:VEVENT
DTSTART;TZID=UTC:20241208T100000
DTEND;TZID=UTC:20241208T113000
DTSTAMP:20260422T221250
CREATED:20240108T211905Z
LAST-MODIFIED:20241009T194259Z
UID:3477-1733652000-1733657400@riceroadcc.ca
SUMMARY:Sunday Service
DESCRIPTION:
URL:https://riceroadcc.ca/events/sunday-service-2-11/
LOCATION:Rice Road Community Church\, 305 Rice Rd\, Welland\, Ontario\, L3C 2V9\, Canada
CATEGORIES:Worship Service
ATTACH;FMTTYPE=image/jpeg:https://riceroadcc.ca/wp-content/uploads/2024/01/event_worship.jpg
END:VEVENT
BEGIN:VEVENT
DTSTART;TZID=UTC:20250202T100000
DTEND;TZID=UTC:20250202T113000
DTSTAMP:20260422T221250
CREATED:20241006T210846Z
LAST-MODIFIED:20250115T160144Z
UID:3474-1738490400-1738495800@riceroadcc.ca
SUMMARY:Communion Sunday Service
DESCRIPTION:
URL:https://riceroadcc.ca/events/sunday-service-2-3/
LOCATION:Rice Road Community Church\, 305 Rice Rd\, Welland\, Ontario\, L3C 2V9\, Canada
CATEGORIES:Worship Service
ATTACH;FMTTYPE=image/jpeg:https://riceroadcc.ca/wp-content/uploads/2024/01/event_worship.jpg
END:VEVENT
BEGIN:VEVENT
DTSTART;TZID=UTC:20250912T190000
DTEND;TZID=UTC:20250912T203000
DTSTAMP:20260422T221250
CREATED:20240514T211520Z
LAST-MODIFIED:20250904T173917Z
UID:3492-1757703600-1757709000@riceroadcc.ca
SUMMARY:The Well
DESCRIPTION:
URL:https://riceroadcc.ca/events/sunday-service-2-8/
LOCATION:Rice Road Community Church\, 305 Rice Rd\, Welland\, Ontario\, L3C 2V9\, Canada
CATEGORIES:Worship Service
ATTACH;FMTTYPE=image/jpeg:https://riceroadcc.ca/wp-content/uploads/2024/05/channels4_profile-1.jpg
END:VEVENT
BEGIN:VEVENT
DTSTART;TZID=UTC:20251224T190000
DTEND;TZID=UTC:20251224T203000
DTSTAMP:20260422T221250
CREATED:20250518T212903Z
LAST-MODIFIED:20251224T144503Z
UID:3480-1766602800-1766608200@riceroadcc.ca
SUMMARY:Christmas Eve Service
DESCRIPTION:
URL:https://riceroadcc.ca/events/sunday-service-2-14/
LOCATION:Rice Road Community Church\, 305 Rice Rd\, Welland\, Ontario\, L3C 2V9\, Canada
CATEGORIES:Worship Service
ATTACH;FMTTYPE=image/jpeg:https://riceroadcc.ca/wp-content/uploads/2024/01/event_worship.jpg
END:VEVENT
BEGIN:VEVENT
DTSTART;TZID=UTC:20260222T100000
DTEND;TZID=UTC:20260222T210000
DTSTAMP:20260422T221250
CREATED:20240318T154632Z
LAST-MODIFIED:20260219T154025Z
UID:3610-1771754400-1771794000@riceroadcc.ca
SUMMARY:Sunday Service
DESCRIPTION:
URL:https://riceroadcc.ca/events/messiah-in-the-passover/
LOCATION:Ontario
CATEGORIES:Communion - Service
ATTACH;FMTTYPE=image/jpeg:https://riceroadcc.ca/wp-content/uploads/2024/01/event_worship.jpg
END:VEVENT
BEGIN:VEVENT
DTSTART;TZID=UTC:20260301T100000
DTEND;TZID=UTC:20260301T113000
DTSTAMP:20260422T221250
CREATED:20240108T211229Z
LAST-MODIFIED:20260219T154132Z
UID:3486-1772359200-1772364600@riceroadcc.ca
SUMMARY:Communion Sunday Service
DESCRIPTION:
URL:https://riceroadcc.ca/events/sunday-service-2-6/
LOCATION:Rice Road Community Church\, 305 Rice Rd\, Welland\, Ontario\, L3C 2V9\, Canada
CATEGORIES:Worship Service
ATTACH;FMTTYPE=image/jpeg:https://riceroadcc.ca/wp-content/uploads/2024/01/event_worship.jpg
END:VEVENT
BEGIN:VEVENT
DTSTART;TZID=UTC:20260308T100000
DTEND;TZID=UTC:20260308T113000
DTSTAMP:20260422T221250
CREATED:20250511T210944Z
LAST-MODIFIED:20260219T154157Z
UID:3490-1772964000-1772969400@riceroadcc.ca
SUMMARY:Sunday Service
DESCRIPTION:
URL:https://riceroadcc.ca/events/sunday-service-2-4/
LOCATION:Ontario
CATEGORIES:Worship Service
ATTACH;FMTTYPE=image/jpeg:https://riceroadcc.ca/wp-content/uploads/2024/01/event_worship.jpg
END:VEVENT
BEGIN:VEVENT
DTSTART;TZID=UTC:20260315T100000
DTEND;TZID=UTC:20260315T113000
DTSTAMP:20260422T221250
CREATED:20250902T213144Z
LAST-MODIFIED:20260219T154222Z
UID:3481-1773568800-1773574200@riceroadcc.ca
SUMMARY:Sunday Service
DESCRIPTION:
URL:https://riceroadcc.ca/events/sunday-service-2-15/
LOCATION:Rice Road Community Church\, 305 Rice Rd\, Welland\, Ontario\, L3C 2V9\, Canada
CATEGORIES:Worship Service
ATTACH;FMTTYPE=image/jpeg:https://riceroadcc.ca/wp-content/uploads/2024/01/event_worship.jpg
END:VEVENT
BEGIN:VEVENT
DTSTART;TZID=UTC:20260322T100000
DTEND;TZID=UTC:20260322T113000
DTSTAMP:20260422T221250
CREATED:20240108T211427Z
LAST-MODIFIED:20260219T154246Z
UID:3487-1774173600-1774179000@riceroadcc.ca
SUMMARY:Sunday Service
DESCRIPTION:
URL:https://riceroadcc.ca/events/sunday-service-2-7/
LOCATION:Rice Road Community Church\, 305 Rice Rd\, Welland\, Ontario\, L3C 2V9\, Canada
CATEGORIES:Worship Service
ATTACH;FMTTYPE=image/jpeg:https://riceroadcc.ca/wp-content/uploads/2024/01/event_worship.jpg
END:VEVENT
BEGIN:VEVENT
DTSTART;TZID=UTC:20260329T100000
DTEND;TZID=UTC:20260329T113000
DTSTAMP:20260422T221250
CREATED:20250402T212007Z
LAST-MODIFIED:20260219T154333Z
UID:3479-1774778400-1774783800@riceroadcc.ca
SUMMARY:Sunday Service
DESCRIPTION:
URL:https://riceroadcc.ca/events/sunday-service-2-12/
LOCATION:Rice Road Community Church\, 305 Rice Rd\, Welland\, Ontario\, L3C 2V9\, Canada
CATEGORIES:Worship Service
ATTACH;FMTTYPE=image/jpeg:https://riceroadcc.ca/wp-content/uploads/2024/01/event_worship.jpg
END:VEVENT
BEGIN:VEVENT
DTSTART;TZID=UTC:20260405T100000
DTEND;TZID=UTC:20260405T113000
DTSTAMP:20260422T221250
CREATED:20250501T213421Z
LAST-MODIFIED:20260219T154400Z
UID:3483-1775383200-1775388600@riceroadcc.ca
SUMMARY:Communion Sunday Service
DESCRIPTION:
URL:https://riceroadcc.ca/events/sunday-service-2-17/
LOCATION:Rice Road Community Church\, 305 Rice Rd\, Welland\, Ontario\, L3C 2V9\, Canada
CATEGORIES:Communion - Service
ATTACH;FMTTYPE=image/jpeg:https://riceroadcc.ca/wp-content/uploads/2024/01/event_worship.jpg
END:VEVENT
BEGIN:VEVENT
DTSTART;TZID=UTC:20260412T100000
DTEND;TZID=UTC:20260412T113000
DTSTAMP:20260422T221250
CREATED:20240108T211632Z
LAST-MODIFIED:20260219T154720Z
UID:3475-1775988000-1775993400@riceroadcc.ca
SUMMARY:Sunday Service
DESCRIPTION:
URL:https://riceroadcc.ca/events/sunday-service-2-9/
LOCATION:Rice Road Community Church\, 305 Rice Rd\, Welland\, Ontario\, L3C 2V9\, Canada
CATEGORIES:Worship Service
ATTACH;FMTTYPE=image/jpeg:https://riceroadcc.ca/wp-content/uploads/2024/01/event_worship.jpg
END:VEVENT
END:VCALENDAR